BEGIN:VCALENDAR
VERSION:2.0
PRODID:-//wp-events-plugin.com//7.2.3//EN
TZID:Europe/Berlin
X-WR-TIMEZONE:Europe/Berlin
BEGIN:VEVENT
UID:612@jef-hessen.de
DTSTART;TZID=Europe/Berlin:20220202T180000
DTEND;TZID=Europe/Berlin:20220202T193000
DTSTAMP:20220312T224228Z
URL:https://www.jef-hessen.de/events/europamarkt-koordinationstreffen-2022
 -02-02/
SUMMARY:Europamarkt: Erstes Online-Koordinationstreffen
DESCRIPTION:Unsere heutige Tagesordnung\n\n 	\n\n 	Kurzvorstellung unserer 
 Arbeit als Junge Europäische Föderalisten\n 	Vorstellung des Projektes "
 Europamarkt"\n 	Ausblick auf die weitere Umsetzung\n 	Nächste Schritte\n\
 n\n\nUm Neuigkeiten sowie die nächsten Schritte für unseren Europamarkt 
 zu besprechen\, treffen wir uns in der Regel einmal im Monat. Kurz vor dem
  Europamarkt werden wir uns häufiger treffen. Falls Ihr vorab Fragen habe
 n solltet\, meldet Euch gerne per E-Mail unter europamarkt@jef-hessen.de.\
 n\nBigBlueButton - Hinweise zur Nutzung\n\n\nWir nutzen für unsere Verans
 taltung die Open-Source-Webkonferenz-Software "BigBlueButton".\nWas Du fü
 r den Zugang brauchst\n\n 	bei Nutzung vom Computer aus entweder Fire­fox
  (Down­load unter https://www.mozilla.org/de/firefox/new/) oder Google Ch
 rome (Download unter https://www.google.com/intl/de/chrome/) als Browser\;
  mit den meisten anderen Browsern (insbesondere mit Safari oder Internet E
 xplorer) dürfte es u. a. Probleme hinsichtlich der Audioqualität geben\n
  	einen Kopfhörer\, um Rückkoppelungseffekte zu vermeiden\; verwende am 
 besten einen kabelgebundenen Kopfhörer\; mit Bluetooth-Kopfhörern könnt
 e es eventuell Probleme geben\n 	ein Mikrofon\; entweder ist dieses in Dei
 n Notebook integriert oder Du müsstet statt eines Kopfhörers ein Headset
  mit Mikro verwenden\n 	falls Du Dich vom Handy aus dazuschalten möchtest
 \, funktioniert dies bei Android (6.0+) über Chrome (bereits installiert)
  oder Firefox (Download im Google Play Store)\; bei iOS (12.2+) über den 
 Standardbrowser Safari Mobile (bereits installiert).\n\n 	Einschränkung: 
 Das Teilen des eigenen Bildschirms (Screesharing) ist vom Handy aus nicht 
 möglich.\n\n\n\nWie Du der Webkonferenz beitreten kannst\n\n\n 	Du erhäl
 tst von uns einen Link\, über den Du der Webkonferenz beitreten kannst.\n
  	Rufe den Link kurz vor Beginn der Veranstaltung auf.\n 	Gib Deinen Namen
  ein.\n 	Klicke auf die Schaltfläche "Teilnehmen".\n 	Ggf. musst Du einen
  kurzen Moment warten\, bis wir Dich eingelassen haben.\n 	Du wirst dann g
 efragt\, wie Du der Konferenz beitreten möchtest – klicke hier auf die 
 Option "Mit Mikrofon" auf der linken Seite.\n 	Anschließend musst Du der 
 Website im Browser den Zugriff auf Dein Mikrofon erlauben\, indem Du die e
 ntsprechende Schaltfläche anklickst.\n\nHinweise zur Problembehebung\n\n 
 	Hast Du in Deinem Browser einen Add-Blocker installiert? Falls ja: Deakti
 viere ihn für die obige Website.\n 	Hast Du die aktuelle Version Deines B
 rowsers (empfohlen: Firefox oder Chrome) installiert? Falls nicht: Führe 
 ein Update durch.\n 	Ist das Mikrofon in Deinem Betriebssystem aktiviert?\
 n 	Hast Du in Deinem Browser den Zugriff auf Dein Mikrofon für die obige 
 Seite erlaubt?\n 	Hast Du in "BigBlueButton" Dein Mikrofon eingeschaltet?\
 n 	Falls Du über WLAN im Internet bist und Probleme mit der Audioqualitä
 t haben solltest (sei es\, dass die anderen Gesprächsteilnehmer Dich nur 
 unterbrochen / abgehackt hören können oder Du sie)\, verbinde Deinen Com
 puter per LAN-Kabel mit dem Internetrouter. Eventuell kann es auch schon h
 elfen\, wenn Du mit Deinem Notebook / Handy näher an den Internetrouter g
 ehst oder diesen näher an Deinen Computer holst.\n\nSo kannst Du in Windo
 ws 10 den Pegel Deines Mikrofons anpassen\n\n 	Im Infobereich der Taskleis
 te (rechts unten) auf den Lautsprecher klicken.\n 	Auf "Soundeinstellungen
  öffnen" klicken.\n 	Im Abschnitt "Eingabe" auf "Geräteeigenschaften" kl
 icken.\n 	Mikrofon-Pegel durch Verschieben des Reglers anpassen\n\n\n\n\n\
 n\n\n\n\n\n\n[su_button url="https://conference.federalists.academy/b/mar-
 uc7-9av" rel="noopener" target="_blank" style="default" background="rgb(30
 \, 140\, 30)" color="#FFFFFF" size="10" wide="no" center="yes" radius="aut
 o" icon="" icon_color="#FFFFFF" text_shadow="none" desc="" download="" onc
 lick="" rel="" title="" id="" class=""]Zum Webkonferenzraum[/su_button]\n\
 n$(document).ready(function() { $("#akkordeon").accordion( {heightStyle: "
 content"}\, {collapsible: true}\, {active: false} )\; })\;\n
CATEGORIES:Europamarkt Marburg,JEF Marburg
END:VEVENT
BEGIN:VEVENT
UID:613@jef-hessen.de
DTSTART;TZID=Europe/Berlin:20220309T180000
DTEND;TZID=Europe/Berlin:20220309T193000
DTSTAMP:20220312T224348Z
URL:https://www.jef-hessen.de/events/europamarkt-koordinationstreffen-2022
 -03-09/
SUMMARY:Europamarkt: Zweites Online-Koordinationstreffen
DESCRIPTION:Unsere heutige Tagesordnung\n\n 	\n\n 	Hilfegesuche für Mensch
 en in der Ukraine und Geflüchtete\n 	Eure Anmeldung als Kooperationspartn
 er\n 	Möglichkeiten zur Unterstützung durch die Universitätsstadt Marbu
 rg im Rahmen von städtepartnerschaftlichen Aktivitäten\n 	Nächste Schri
 tte\n 	Grundlegendes zu kulinarischen Beiträgen\n\n\n\nUm Neuigkeiten sow
 ie die nächsten Schritte für unseren Europamarkt zu besprechen\, treffen
  wir uns in der Regel einmal im Monat. Kurz vor dem Europamarkt werden wir
  uns häufiger treffen. Falls Ihr vorab Fragen haben solltet\, meldet Euch
  gerne per E-Mail unter europamarkt@jef-hessen.de.\n\nBigBlueButton - Hinw
 eise zur Nutzung\n\n\nWir nutzen für unsere Veranstaltung die Open-Source
 -Webkonferenz-Software "BigBlueButton".\nWas Du für den Zugang brauchst\n
 \n 	bei Nutzung vom Computer aus entweder Fire­fox (Down­load unter http
 s://www.mozilla.org/de/firefox/new/) oder Google Chrome (Download unter ht
 tps://www.google.com/intl/de/chrome/) als Browser\; mit den meisten andere
 n Browsern (insbesondere mit Safari oder Internet Explorer) dürfte es u. 
 a. Probleme hinsichtlich der Audioqualität geben\n 	einen Kopfhörer\, um
  Rückkoppelungseffekte zu vermeiden\; verwende am besten einen kabelgebun
 denen Kopfhörer\; mit Bluetooth-Kopfhörern könnte es eventuell Probleme
  geben\n 	ein Mikrofon\; entweder ist dieses in Dein Notebook integriert o
 der Du müsstet statt eines Kopfhörers ein Headset mit Mikro verwenden\n 
 	falls Du Dich vom Handy aus dazuschalten möchtest\, funktioniert dies be
 i Android (6.0+) über Chrome (bereits installiert) oder Firefox (Download
  im Google Play Store)\; bei iOS (12.2+) über den Standardbrowser Safari 
 Mobile (bereits installiert).\n\n 	Einschränkung: Das Teilen des eigenen 
 Bildschirms (Screesharing) ist vom Handy aus nicht möglich.\n\n\n\nWie Du
  der Webkonferenz beitreten kannst\n\n\n 	Du erhältst von uns einen Link\
 , über den Du der Webkonferenz beitreten kannst.\n 	Rufe den Link kurz vo
 r Beginn der Veranstaltung auf.\n 	Gib Deinen Namen ein.\n 	Klicke auf die
  Schaltfläche "Teilnehmen".\n 	Ggf. musst Du einen kurzen Moment warten\,
  bis wir Dich eingelassen haben.\n 	Du wirst dann gefragt\, wie Du der Kon
 ferenz beitreten möchtest – klicke hier auf die Option "Mit Mikrofon" a
 uf der linken Seite.\n 	Anschließend musst Du der Website im Browser den 
 Zugriff auf Dein Mikrofon erlauben\, indem Du die entsprechende Schaltflä
 che anklickst.\n\nHinweise zur Problembehebung\n\n 	Hast Du in Deinem Brow
 ser einen Add-Blocker installiert? Falls ja: Deaktiviere ihn für die obig
 e Website.\n 	Hast Du die aktuelle Version Deines Browsers (empfohlen: Fir
 efox oder Chrome) installiert? Falls nicht: Führe ein Update durch.\n 	Is
 t das Mikrofon in Deinem Betriebssystem aktiviert?\n 	Hast Du in Deinem Br
 owser den Zugriff auf Dein Mikrofon für die obige Seite erlaubt?\n 	Hast 
 Du in "BigBlueButton" Dein Mikrofon eingeschaltet?\n 	Falls Du über WLAN 
 im Internet bist und Probleme mit der Audioqualität haben solltest (sei e
 s\, dass die anderen Gesprächsteilnehmer Dich nur unterbrochen / abgehack
 t hören können oder Du sie)\, verbinde Deinen Computer per LAN-Kabel mit
  dem Internetrouter. Eventuell kann es auch schon helfen\, wenn Du mit Dei
 nem Notebook / Handy näher an den Internetrouter gehst oder diesen näher
  an Deinen Computer holst.\n\nSo kannst Du in Windows 10 den Pegel Deines 
 Mikrofons anpassen\n\n 	Im Infobereich der Taskleiste (rechts unten) auf d
 en Lautsprecher klicken.\n 	Auf "Soundeinstellungen öffnen" klicken.\n 	I
 m Abschnitt "Eingabe" auf "Geräteeigenschaften" klicken.\n 	Mikrofon-Pege
 l durch Verschieben des Reglers anpassen\n\n\n\n\n\n\n\n\n\n\n\n[su_button
  url="https://conference.federalists.academy/b/mar-uc7-9av" rel="noopener"
  target="_blank" style="default" background="rgb(30\, 140\, 30)" color="#F
 FFFFF" size="10" wide="no" center="yes" radius="auto" icon="" icon_color="
 #FFFFFF" text_shadow="none" desc="" download="" onclick="" rel="" title=""
  id="" class=""]Zum Webkonferenzraum[/su_button]\n\n$(document).ready(func
 tion() { $("#akkordeon").accordion( {heightStyle: "content"}\, {collapsibl
 e: true}\, {active: false} )\; })\;\n
CATEGORIES:Europamarkt Marburg,JEF Marburg
END:VEVENT
BEGIN:VEVENT
UID:614@jef-hessen.de
DTSTART;TZID=Europe/Berlin:20220406T180000
DTEND;TZID=Europe/Berlin:20220406T193000
DTSTAMP:20220312T224809Z
URL:https://www.jef-hessen.de/events/europamarkt-koordinationstreffen-2022
 -04-06/
SUMMARY:Europamarkt: Drittes Online-Koordinationstreffen
DESCRIPTION:Unsere heutige Tagesordnung\nDie Tagesordnung senden wir Euch v
 orab per E-Mail noch zu.\n\nUm Neuigkeiten sowie die nächsten Schritte f
 ür unseren Europamarkt zu besprechen\, treffen wir uns in der Regel einma
 l im Monat. Kurz vor dem Europamarkt werden wir uns häufiger treffen. Fal
 ls Ihr vorab Fragen haben solltet\, meldet Euch gerne per E-Mail unter eur
 opamarkt@jef-hessen.de.\n\nBigBlueButton - Hinweise zur Nutzung\n\n\nWir n
 utzen für unsere Veranstaltung die Open-Source-Webkonferenz-Software "Big
 BlueButton".\nWas Du für den Zugang brauchst\n\n 	bei Nutzung vom Compute
 r aus entweder Fire­fox (Down­load unter https://www.mozilla.org/de/fire
 fox/new/) oder Google Chrome (Download unter https://www.google.com/intl/d
 e/chrome/) als Browser\; mit den meisten anderen Browsern (insbesondere mi
 t Safari oder Internet Explorer) dürfte es u. a. Probleme hinsichtlich de
 r Audioqualität geben\n 	einen Kopfhörer\, um Rückkoppelungseffekte zu 
 vermeiden\; verwende am besten einen kabelgebundenen Kopfhörer\; mit Blue
 tooth-Kopfhörern könnte es eventuell Probleme geben\n 	ein Mikrofon\; en
 tweder ist dieses in Dein Notebook integriert oder Du müsstet statt eines
  Kopfhörers ein Headset mit Mikro verwenden\n 	falls Du Dich vom Handy au
 s dazuschalten möchtest\, funktioniert dies bei Android (6.0+) über Chro
 me (bereits installiert) oder Firefox (Download im Google Play Store)\; be
 i iOS (12.2+) über den Standardbrowser Safari Mobile (bereits installiert
 ).\n\n 	Einschränkung: Das Teilen des eigenen Bildschirms (Screesharing) 
 ist vom Handy aus nicht möglich.\n\n\n\nWie Du der Webkonferenz beitreten
  kannst\n\n\n 	Du erhältst von uns einen Link\, über den Du der Webkonfe
 renz beitreten kannst.\n 	Rufe den Link kurz vor Beginn der Veranstaltung 
 auf.\n 	Gib Deinen Namen ein.\n 	Klicke auf die Schaltfläche "Teilnehmen"
 .\n 	Ggf. musst Du einen kurzen Moment warten\, bis wir Dich eingelassen h
 aben.\n 	Du wirst dann gefragt\, wie Du der Konferenz beitreten möchtest 
 – klicke hier auf die Option "Mit Mikrofon" auf der linken Seite.\n 	Ans
 chließend musst Du der Website im Browser den Zugriff auf Dein Mikrofon e
 rlauben\, indem Du die entsprechende Schaltfläche anklickst.\n\nHinweise 
 zur Problembehebung\n\n 	Hast Du in Deinem Browser einen Add-Blocker insta
 lliert? Falls ja: Deaktiviere ihn für die obige Website.\n 	Hast Du die a
 ktuelle Version Deines Browsers (empfohlen: Firefox oder Chrome) installie
 rt? Falls nicht: Führe ein Update durch.\n 	Ist das Mikrofon in Deinem Be
 triebssystem aktiviert?\n 	Hast Du in Deinem Browser den Zugriff auf Dein 
 Mikrofon für die obige Seite erlaubt?\n 	Hast Du in "BigBlueButton" Dein 
 Mikrofon eingeschaltet?\n 	Falls Du über WLAN im Internet bist und Proble
 me mit der Audioqualität haben solltest (sei es\, dass die anderen Gespr
 ächsteilnehmer Dich nur unterbrochen / abgehackt hören können oder Du s
 ie)\, verbinde Deinen Computer per LAN-Kabel mit dem Internetrouter. Event
 uell kann es auch schon helfen\, wenn Du mit Deinem Notebook / Handy nähe
 r an den Internetrouter gehst oder diesen näher an Deinen Computer holst.
 \n\nSo kannst Du in Windows 10 den Pegel Deines Mikrofons anpassen\n\n 	Im
  Infobereich der Taskleiste (rechts unten) auf den Lautsprecher klicken.\n
  	Auf "Soundeinstellungen öffnen" klicken.\n 	Im Abschnitt "Eingabe" auf 
 "Geräteeigenschaften" klicken.\n 	Mikrofon-Pegel durch Verschieben des Re
 glers anpassen\n\n\n\n\n\n\n\n\n\n\n\n[su_button url="https://conference.f
 ederalists.academy/b/mar-uc7-9av" rel="noopener" target="_blank" style="de
 fault" background="rgb(30\, 140\, 30)" color="#FFFFFF" size="10" wide="no"
  center="yes" radius="auto" icon="" icon_color="#FFFFFF" text_shadow="none
 " desc="" download="" onclick="" rel="" title="" id="" class=""]Zum Webkon
 ferenzraum[/su_button]\n\n$(document).ready(function() { $("#akkordeon").a
 ccordion( {heightStyle: "content"}\, {collapsible: true}\, {active: false}
  )\; })\;\n
CATEGORIES:Europamarkt Marburg,JEF Marburg
END:VEVENT
BEGIN:VEVENT
UID:622@jef-hessen.de
DTSTART;TZID=Europe/Berlin:20220525T180000
DTEND;TZID=Europe/Berlin:20220525T193000
DTSTAMP:20220527T111318Z
URL:https://www.jef-hessen.de/events/europanetzwerk-koordinationstreffen-2
 022-05-25/
SUMMARY:Europanetzwerk: Viertes Online-Koordinationstreffen
DESCRIPTION:Unsere heutige Tagesordnung\nHeute wollen wir unsere gemeinsame
  Europa-Rallye beim "Tischlein Deck Dich" am So\, 5. Juni 2022 vorbereiten
 . Falls Ihr Fragen haben solltet\, meldet Euch gerne per E-Mail unter euro
 pamarkt@jef-hessen.de.\n\n\nBigBlueButton - Hinweise zur Nutzung\n\n\nWir 
 nutzen für unsere Veranstaltung die Open-Source-Webkonferenz-Software "Bi
 gBlueButton".\nWas Du für den Zugang brauchst\n\n 	bei Nutzung vom Comput
 er aus entweder Fire­fox (Down­load unter https://www.mozilla.org/de/fir
 efox/new/) oder Google Chrome (Download unter https://www.google.com/intl/
 de/chrome/) als Browser\; mit den meisten anderen Browsern (insbesondere m
 it Safari oder Internet Explorer) dürfte es u. a. Probleme hinsichtlich d
 er Audioqualität geben\n 	einen Kopfhörer\, um Rückkoppelungseffekte zu
  vermeiden\; verwende am besten einen kabelgebundenen Kopfhörer\; mit Blu
 etooth-Kopfhörern könnte es eventuell Probleme geben\n 	ein Mikrofon\; e
 ntweder ist dieses in Dein Notebook integriert oder Du müsstet statt eine
 s Kopfhörers ein Headset mit Mikro verwenden\n 	falls Du Dich vom Handy a
 us dazuschalten möchtest\, funktioniert dies bei Android (6.0+) über Chr
 ome (bereits installiert) oder Firefox (Download im Google Play Store)\; b
 ei iOS (12.2+) über den Standardbrowser Safari Mobile (bereits installier
 t).\n\n 	Einschränkung: Das Teilen des eigenen Bildschirms (Screesharing)
  ist vom Handy aus nicht möglich.\n\n\n\nWie Du der Webkonferenz beitrete
 n kannst\n\n\n 	Du erhältst von uns einen Link\, über den Du der Webkonf
 erenz beitreten kannst.\n 	Rufe den Link kurz vor Beginn der Veranstaltung
  auf.\n 	Gib Deinen Namen ein.\n 	Klicke auf die Schaltfläche "Teilnehmen
 ".\n 	Ggf. musst Du einen kurzen Moment warten\, bis wir Dich eingelassen 
 haben.\n 	Du wirst dann gefragt\, wie Du der Konferenz beitreten möchtest
  – klicke hier auf die Option "Mit Mikrofon" auf der linken Seite.\n 	An
 schließend musst Du der Website im Browser den Zugriff auf Dein Mikrofon 
 erlauben\, indem Du die entsprechende Schaltfläche anklickst.\n\nHinweise
  zur Problembehebung\n\n 	Hast Du in Deinem Browser einen Add-Blocker inst
 alliert? Falls ja: Deaktiviere ihn für die obige Website.\n 	Hast Du die 
 aktuelle Version Deines Browsers (empfohlen: Firefox oder Chrome) installi
 ert? Falls nicht: Führe ein Update durch.\n 	Ist das Mikrofon in Deinem B
 etriebssystem aktiviert?\n 	Hast Du in Deinem Browser den Zugriff auf Dein
  Mikrofon für die obige Seite erlaubt?\n 	Hast Du in "BigBlueButton" Dein
  Mikrofon eingeschaltet?\n 	Falls Du über WLAN im Internet bist und Probl
 eme mit der Audioqualität haben solltest (sei es\, dass die anderen Gespr
 ächsteilnehmer Dich nur unterbrochen / abgehackt hören können oder Du s
 ie)\, verbinde Deinen Computer per LAN-Kabel mit dem Internetrouter. Event
 uell kann es auch schon helfen\, wenn Du mit Deinem Notebook / Handy nähe
 r an den Internetrouter gehst oder diesen näher an Deinen Computer holst.
 \n\nSo kannst Du in Windows 10 den Pegel Deines Mikrofons anpassen\n\n 	Im
  Infobereich der Taskleiste (rechts unten) auf den Lautsprecher klicken.\n
  	Auf "Soundeinstellungen öffnen" klicken.\n 	Im Abschnitt "Eingabe" auf 
 "Geräteeigenschaften" klicken.\n 	Mikrofon-Pegel durch Verschieben des Re
 glers anpassen\n\n\n\n\n\n\n\n\n\n\n\n[su_button url="https://conference.f
 ederalists.academy/b/mar-uc7-9av" rel="noopener" target="_blank" style="de
 fault" background="rgb(30\, 140\, 30)" color="#FFFFFF" size="10" wide="no"
  center="yes" radius="auto" icon="" icon_color="#FFFFFF" text_shadow="none
 " desc="" download="" onclick="" rel="" title="" id="" class=""]Zum Webkon
 ferenzraum[/su_button]\n\n$(document).ready(function() { $("#akkordeon").a
 ccordion( {heightStyle: "content"}\, {collapsible: true}\, {active: false}
  )\; })\;\n
CATEGORIES:Europamarkt Marburg,JEF Marburg
END:VEVENT
BEGIN:VTIMEZONE
TZID:Europe/Berlin
X-LIC-LOCATION:Europe/Berlin
BEGIN:STANDARD
DTSTART:20211031T020000
TZOFFSETFROM:+0200
TZOFFSETTO:+0100
TZNAME:CET
END:STANDARD
BEGIN:DAYLIGHT
DTSTART:20220327T030000
TZOFFSETFROM:+0100
TZOFFSETTO:+0200
TZNAME:CEST
END:DAYLIGHT
END:VTIMEZONE
END:VCALENDAR